BEGIN:VCALENDAR
VERSION:2.0
PRODID:-//一般財団法人上田市スポーツ協会 - ECPv4.1.2//NONSGML v1.0//EN
CALSCALE:GREGORIAN
METHOD:PUBLISH
X-WR-CALNAME:一般財団法人上田市スポーツ協会
X-ORIGINAL-URL:http://ueda-sports.happygate.co.jp
X-WR-CALDESC:Events for 一般財団法人上田市スポーツ協会
BEGIN:VEVENT
DTSTART;TZID=Asia/Tokyo:20231105T080000
DTEND;TZID=Asia/Tokyo:20231105T140000
DTSTAMP:20260420T015241
CREATED:20230829T025936
LAST-MODIFIED:20230829T025936
UID:2795-1699171200-1699192800@ueda-sports.happygate.co.jp
SUMMARY:3on3in上田バスケットボール大会　開催されます。
DESCRIPTION:3３2023開催要項\n\n3on3in上田バスケットボール大会が11月5日(日)上田市自然運動公園総合体育館で開催されます。\n\n9/29(金)から受付開始！\n\n大勢の皆さまのご参加をお待ちしております。\n\n \n\n 
URL:http://ueda-sports.happygate.co.jp/event/3on3in%e4%b8%8a%e7%94%b0%e3%83%90%e3%82%b9%e3%82%b1%e3%83%83%e3%83%88%e3%83%9c%e3%83%bc%e3%83%ab%e5%a4%a7%e4%bc%9a%e3%80%80%e9%96%8b%e5%82%ac%e3%81%95%e3%82%8c%e3%81%be%e3%81%99%e3%80%82
LOCATION:下之郷乙935\, 上田市
END:VEVENT
END:VCALENDAR