BEGIN:VCALENDAR
VERSION:2.0
PRODID:-//一般財団法人上田市スポーツ協会 - ECPv4.1.2//NONSGML v1.0//EN
CALSCALE:GREGORIAN
METHOD:PUBLISH
X-WR-CALNAME:一般財団法人上田市スポーツ協会
X-ORIGINAL-URL:http://ueda-sports.happygate.co.jp
X-WR-CALDESC:Events for 一般財団法人上田市スポーツ協会
BEGIN:VEVENT
DTSTART;TZID=Asia/Tokyo:20221106T080000
DTEND;TZID=Asia/Tokyo:20221106T130000
DTSTAMP:20260419T141642
CREATED:20220919T024431
LAST-MODIFIED:20220919T025013
UID:2534-1667721600-1667739600@ueda-sports.happygate.co.jp
SUMMARY:３on３inUEDA　大会参加者募集！
DESCRIPTION:バスケットボールファンの皆さん！「3on3in上田」が3年ぶりに帰ってきました‼\n申し込みは、大会要項をご覧いただき「大会申込QRコード」からお申し込みください。\n\n3×３2022開催要項\n\n2022.3on3申込書\n\n2022.健康チェックシー\n\n2022.3on3大会ルール\n\n\n\n
URL:http://ueda-sports.happygate.co.jp/event/%ef%bc%93on%ef%bc%93inueda%e3%80%80%e5%a4%a7%e4%bc%9a%e5%8f%82%e5%8a%a0%e8%80%85%e5%8b%9f%e9%9b%86%ef%bc%81
LOCATION:下之郷乙935\, 上田市
END:VEVENT
END:VCALENDAR