BEGIN:VCALENDAR
VERSION:2.0
PRODID:-//一般財団法人上田市スポーツ協会 - ECPv4.1.2//NONSGML v1.0//EN
CALSCALE:GREGORIAN
METHOD:PUBLISH
X-WR-CALNAME:一般財団法人上田市スポーツ協会
X-ORIGINAL-URL:http://ueda-sports.happygate.co.jp
X-WR-CALDESC:Events for 一般財団法人上田市スポーツ協会
BEGIN:VEVENT
DTSTART;TZID=Asia/Tokyo:20230903T090000
DTEND;TZID=Asia/Tokyo:20230903T110000
DTSTAMP:20260420T032042
CREATED:20230720T011434
LAST-MODIFIED:20230720T011434
UID:2782-1693731600-1693738800@ueda-sports.happygate.co.jp
SUMMARY:第72回市民総合体育大会（相撲競技の部）参加者募集
DESCRIPTION:参加者募集中！大勢の皆様のご参加をお待ちしております。\n\n参加費は無料です。\n\n開催要項　市民総体相撲競技大会要項\n\n 
URL:http://ueda-sports.happygate.co.jp/event/%e7%ac%ac72%e5%9b%9e%e5%b8%82%e6%b0%91%e7%b7%8f%e5%90%88%e4%bd%93%e8%82%b2%e5%a4%a7%e4%bc%9a%ef%bc%88%e7%9b%b8%e6%92%b2%e7%ab%b6%e6%8a%80%e3%81%ae%e9%83%a8%ef%bc%89%e5%8f%82%e5%8a%a0%e8%80%85%e5%8b%9f
LOCATION:二の丸4-58\, 上田市
END:VEVENT
END:VCALENDAR