BEGIN:VCALENDAR
VERSION:2.0
PRODID:-//一般財団法人上田市スポーツ協会 - ECPv4.1.2//NONSGML v1.0//EN
CALSCALE:GREGORIAN
METHOD:PUBLISH
X-WR-CALNAME:一般財団法人上田市スポーツ協会
X-ORIGINAL-URL:http://ueda-sports.happygate.co.jp
X-WR-CALDESC:Events for 一般財団法人上田市スポーツ協会
BEGIN:VEVENT
DTSTART;TZID=Asia/Tokyo:20230930T090000
DTEND;TZID=Asia/Tokyo:20230930T103000
DTSTAMP:20260420T020013
CREATED:20230921T003759
LAST-MODIFIED:20230921T003759
UID:2805-1696064400-1696069800@ueda-sports.happygate.co.jp
SUMMARY:からだを動かす楽しさ体験　開催いたします！！
DESCRIPTION:日本スポーツ協会が作成した幼児及びその保護者を対象とした活動プログラム\n\n『アクティブ・チャイルド・プログラム』で、からだを動かして遊ぶ体験を行い\n\nスポーツを始めるきっかけを作る事が目的の体験会です。\n\n詳しくは☟クリック\n\nからだを動かす楽しさ体験要項\n\n定員は親子20組！！　ご参加お待ちしております。
URL:http://ueda-sports.happygate.co.jp/event/%e3%81%8b%e3%82%89%e3%81%a0%e3%82%92%e5%8b%95%e3%81%8b%e3%81%99%e6%a5%bd%e3%81%97%e3%81%95%e4%bd%93%e9%a8%93%e3%80%80%e9%96%8b%e5%82%ac%e3%81%84%e3%81%9f%e3%81%97%e3%81%be%e3%81%99%ef%bc%81%ef%bc%81
LOCATION:上田市常盤城1-1-30\, 上田市\, 386-0027
END:VEVENT
END:VCALENDAR